BEGIN:VCALENDAR
VERSION:2.0
PRODID:-//Pile Drivers Local 2404 - ECPv6.15.18//NONSGML v1.0//EN
CALSCALE:GREGORIAN
METHOD:PUBLISH
X-WR-CALNAME:Pile Drivers Local 2404
X-ORIGINAL-URL:https://piledrivers2404.ca
X-WR-CALDESC:Events for Pile Drivers Local 2404
REFRESH-INTERVAL;VALUE=DURATION:PT1H
X-Robots-Tag:noindex
X-PUBLISHED-TTL:PT1H
BEGIN:VTIMEZONE
TZID:America/Vancouver
BEGIN:DAYLIGHT
TZOFFSETFROM:-0800
TZOFFSETTO:-0700
TZNAME:PDT
DTSTART:20260308T100000
END:DAYLIGHT
BEGIN:STANDARD
TZOFFSETFROM:-0700
TZOFFSETTO:-0800
TZNAME:PST
DTSTART:20261101T090000
END:STANDARD
BEGIN:DAYLIGHT
TZOFFSETFROM:-0800
TZOFFSETTO:-0700
TZNAME:PDT
DTSTART:20270314T100000
END:DAYLIGHT
BEGIN:STANDARD
TZOFFSETFROM:-0700
TZOFFSETTO:-0800
TZNAME:PST
DTSTART:20271107T090000
END:STANDARD
BEGIN:DAYLIGHT
TZOFFSETFROM:-0800
TZOFFSETTO:-0700
TZNAME:PDT
DTSTART:20280312T100000
END:DAYLIGHT
BEGIN:STANDARD
TZOFFSETFROM:-0700
TZOFFSETTO:-0800
TZNAME:PST
DTSTART:20281105T090000
END:STANDARD
END:VTIMEZONE
BEGIN:VEVENT
DTSTART;TZID=America/Vancouver:20270216T070000
DTEND;TZID=America/Vancouver:20270216T160000
DTSTAMP:20260419T061509
CREATED:20260112T181849Z
LAST-MODIFIED:20260112T181849Z
UID:38472-1802761200-1802793600@piledrivers2404.ca
SUMMARY:Pile Driver / Bridgeworker Level 2
DESCRIPTION:
URL:https://piledrivers2404.ca/event/pile-driver-bridgeworker-level-2-6/2027-02-16/
LOCATION:Local 2404 JATC Training Centre\, #101-580 Ebury Place\, Delta\, British Columbia\, V3M6M8\, Canada
END:VEVENT
BEGIN:VEVENT
DTSTART;TZID=America/Vancouver:20270217T070000
DTEND;TZID=America/Vancouver:20270217T160000
DTSTAMP:20260419T061509
CREATED:20260112T181849Z
LAST-MODIFIED:20260112T181849Z
UID:38473-1802847600-1802880000@piledrivers2404.ca
SUMMARY:Pile Driver / Bridgeworker Level 2
DESCRIPTION:
URL:https://piledrivers2404.ca/event/pile-driver-bridgeworker-level-2-6/2027-02-17/
LOCATION:Local 2404 JATC Training Centre\, #101-580 Ebury Place\, Delta\, British Columbia\, V3M6M8\, Canada
END:VEVENT
BEGIN:VEVENT
DTSTART;TZID=America/Vancouver:20270218T070000
DTEND;TZID=America/Vancouver:20270218T160000
DTSTAMP:20260419T061509
CREATED:20260112T181849Z
LAST-MODIFIED:20260112T181849Z
UID:38474-1802934000-1802966400@piledrivers2404.ca
SUMMARY:Pile Driver / Bridgeworker Level 2
DESCRIPTION:
URL:https://piledrivers2404.ca/event/pile-driver-bridgeworker-level-2-6/2027-02-18/
LOCATION:Local 2404 JATC Training Centre\, #101-580 Ebury Place\, Delta\, British Columbia\, V3M6M8\, Canada
END:VEVENT
BEGIN:VEVENT
DTSTART;TZID=America/Vancouver:20270219T070000
DTEND;TZID=America/Vancouver:20270219T160000
DTSTAMP:20260419T061509
CREATED:20260112T181849Z
LAST-MODIFIED:20260112T181849Z
UID:38475-1803020400-1803052800@piledrivers2404.ca
SUMMARY:Pile Driver / Bridgeworker Level 2
DESCRIPTION:
URL:https://piledrivers2404.ca/event/pile-driver-bridgeworker-level-2-6/2027-02-19/
LOCATION:Local 2404 JATC Training Centre\, #101-580 Ebury Place\, Delta\, British Columbia\, V3M6M8\, Canada
END:VEVENT
BEGIN:VEVENT
DTSTART;TZID=America/Vancouver:20270301T070000
DTEND;TZID=America/Vancouver:20270301T160000
DTSTAMP:20260419T061509
CREATED:20260112T183041Z
LAST-MODIFIED:20260112T183041Z
UID:38476-1803884400-1803916800@piledrivers2404.ca
SUMMARY:Pile Driver / Bridgeworker Level 3
DESCRIPTION:
URL:https://piledrivers2404.ca/event/pile-driver-bridgeworker-level-3-3/2027-03-01/
LOCATION:British Columbia
END:VEVENT
BEGIN:VEVENT
DTSTART;TZID=America/Vancouver:20270302T070000
DTEND;TZID=America/Vancouver:20270302T160000
DTSTAMP:20260419T061509
CREATED:20260112T183041Z
LAST-MODIFIED:20260112T183041Z
UID:38477-1803970800-1804003200@piledrivers2404.ca
SUMMARY:Pile Driver / Bridgeworker Level 3
DESCRIPTION:
URL:https://piledrivers2404.ca/event/pile-driver-bridgeworker-level-3-3/2027-03-02/
LOCATION:British Columbia
END:VEVENT
BEGIN:VEVENT
DTSTART;TZID=America/Vancouver:20270303T070000
DTEND;TZID=America/Vancouver:20270303T160000
DTSTAMP:20260419T061509
CREATED:20260112T183041Z
LAST-MODIFIED:20260112T183041Z
UID:38478-1804057200-1804089600@piledrivers2404.ca
SUMMARY:Pile Driver / Bridgeworker Level 3
DESCRIPTION:
URL:https://piledrivers2404.ca/event/pile-driver-bridgeworker-level-3-3/2027-03-03/
LOCATION:British Columbia
END:VEVENT
BEGIN:VEVENT
DTSTART;TZID=America/Vancouver:20270304T070000
DTEND;TZID=America/Vancouver:20270304T160000
DTSTAMP:20260419T061509
CREATED:20260112T183041Z
LAST-MODIFIED:20260112T183041Z
UID:38479-1804143600-1804176000@piledrivers2404.ca
SUMMARY:Pile Driver / Bridgeworker Level 3
DESCRIPTION:
URL:https://piledrivers2404.ca/event/pile-driver-bridgeworker-level-3-3/2027-03-04/
LOCATION:British Columbia
END:VEVENT
BEGIN:VEVENT
DTSTART;TZID=America/Vancouver:20270305T070000
DTEND;TZID=America/Vancouver:20270305T160000
DTSTAMP:20260419T061509
CREATED:20260112T183041Z
LAST-MODIFIED:20260112T183041Z
UID:38480-1804230000-1804262400@piledrivers2404.ca
SUMMARY:Pile Driver / Bridgeworker Level 3
DESCRIPTION:
URL:https://piledrivers2404.ca/event/pile-driver-bridgeworker-level-3-3/2027-03-05/
LOCATION:British Columbia
END:VEVENT
BEGIN:VEVENT
DTSTART;TZID=America/Vancouver:20270308T070000
DTEND;TZID=America/Vancouver:20270308T160000
DTSTAMP:20260419T061509
CREATED:20260112T183041Z
LAST-MODIFIED:20260112T183041Z
UID:38481-1804489200-1804521600@piledrivers2404.ca
SUMMARY:Pile Driver / Bridgeworker Level 3
DESCRIPTION:
URL:https://piledrivers2404.ca/event/pile-driver-bridgeworker-level-3-3/2027-03-08/
LOCATION:British Columbia
END:VEVENT
BEGIN:VEVENT
DTSTART;TZID=America/Vancouver:20270309T070000
DTEND;TZID=America/Vancouver:20270309T160000
DTSTAMP:20260419T061509
CREATED:20260112T183041Z
LAST-MODIFIED:20260112T183041Z
UID:38482-1804575600-1804608000@piledrivers2404.ca
SUMMARY:Pile Driver / Bridgeworker Level 3
DESCRIPTION:
URL:https://piledrivers2404.ca/event/pile-driver-bridgeworker-level-3-3/2027-03-09/
LOCATION:British Columbia
END:VEVENT
BEGIN:VEVENT
DTSTART;TZID=America/Vancouver:20270310T070000
DTEND;TZID=America/Vancouver:20270310T160000
DTSTAMP:20260419T061509
CREATED:20260112T183041Z
LAST-MODIFIED:20260112T183041Z
UID:38483-1804662000-1804694400@piledrivers2404.ca
SUMMARY:Pile Driver / Bridgeworker Level 3
DESCRIPTION:
URL:https://piledrivers2404.ca/event/pile-driver-bridgeworker-level-3-3/2027-03-10/
LOCATION:British Columbia
END:VEVENT
BEGIN:VEVENT
DTSTART;TZID=America/Vancouver:20270311T070000
DTEND;TZID=America/Vancouver:20270311T160000
DTSTAMP:20260419T061509
CREATED:20260112T183041Z
LAST-MODIFIED:20260112T183041Z
UID:38484-1804748400-1804780800@piledrivers2404.ca
SUMMARY:Pile Driver / Bridgeworker Level 3
DESCRIPTION:
URL:https://piledrivers2404.ca/event/pile-driver-bridgeworker-level-3-3/2027-03-11/
LOCATION:British Columbia
END:VEVENT
BEGIN:VEVENT
DTSTART;TZID=America/Vancouver:20270312T070000
DTEND;TZID=America/Vancouver:20270312T160000
DTSTAMP:20260419T061509
CREATED:20260112T183041Z
LAST-MODIFIED:20260112T183041Z
UID:38485-1804834800-1804867200@piledrivers2404.ca
SUMMARY:Pile Driver / Bridgeworker Level 3
DESCRIPTION:
URL:https://piledrivers2404.ca/event/pile-driver-bridgeworker-level-3-3/2027-03-12/
LOCATION:British Columbia
END:VEVENT
BEGIN:VEVENT
DTSTART;TZID=America/Vancouver:20270315T070000
DTEND;TZID=America/Vancouver:20270315T160000
DTSTAMP:20260419T061509
CREATED:20260112T183041Z
LAST-MODIFIED:20260112T183041Z
UID:38486-1805094000-1805126400@piledrivers2404.ca
SUMMARY:Pile Driver / Bridgeworker Level 3
DESCRIPTION:
URL:https://piledrivers2404.ca/event/pile-driver-bridgeworker-level-3-3/2027-03-15/
LOCATION:British Columbia
END:VEVENT
BEGIN:VEVENT
DTSTART;TZID=America/Vancouver:20270316T070000
DTEND;TZID=America/Vancouver:20270316T160000
DTSTAMP:20260419T061509
CREATED:20260112T183041Z
LAST-MODIFIED:20260112T183041Z
UID:38488-1805180400-1805212800@piledrivers2404.ca
SUMMARY:Pile Driver / Bridgeworker Level 3
DESCRIPTION:
URL:https://piledrivers2404.ca/event/pile-driver-bridgeworker-level-3-3/2027-03-16/
LOCATION:British Columbia
END:VEVENT
BEGIN:VEVENT
DTSTART;TZID=America/Vancouver:20270317T070000
DTEND;TZID=America/Vancouver:20270317T160000
DTSTAMP:20260419T061509
CREATED:20260112T183041Z
LAST-MODIFIED:20260112T183041Z
UID:38489-1805266800-1805299200@piledrivers2404.ca
SUMMARY:Pile Driver / Bridgeworker Level 3
DESCRIPTION:
URL:https://piledrivers2404.ca/event/pile-driver-bridgeworker-level-3-3/2027-03-17/
LOCATION:British Columbia
END:VEVENT
BEGIN:VEVENT
DTSTART;TZID=America/Vancouver:20270318T070000
DTEND;TZID=America/Vancouver:20270318T160000
DTSTAMP:20260419T061509
CREATED:20260112T183041Z
LAST-MODIFIED:20260112T183041Z
UID:38490-1805353200-1805385600@piledrivers2404.ca
SUMMARY:Pile Driver / Bridgeworker Level 3
DESCRIPTION:
URL:https://piledrivers2404.ca/event/pile-driver-bridgeworker-level-3-3/2027-03-18/
LOCATION:British Columbia
END:VEVENT
BEGIN:VEVENT
DTSTART;TZID=America/Vancouver:20270319T070000
DTEND;TZID=America/Vancouver:20270319T160000
DTSTAMP:20260419T061509
CREATED:20260112T183041Z
LAST-MODIFIED:20260112T183041Z
UID:38491-1805439600-1805472000@piledrivers2404.ca
SUMMARY:Pile Driver / Bridgeworker Level 3
DESCRIPTION:
URL:https://piledrivers2404.ca/event/pile-driver-bridgeworker-level-3-3/2027-03-19/
LOCATION:British Columbia
END:VEVENT
BEGIN:VEVENT
DTSTART;TZID=America/Vancouver:20270322T070000
DTEND;TZID=America/Vancouver:20270322T160000
DTSTAMP:20260419T061509
CREATED:20260112T183041Z
LAST-MODIFIED:20260112T183041Z
UID:38492-1805698800-1805731200@piledrivers2404.ca
SUMMARY:Pile Driver / Bridgeworker Level 3
DESCRIPTION:
URL:https://piledrivers2404.ca/event/pile-driver-bridgeworker-level-3-3/2027-03-22/
LOCATION:British Columbia
END:VEVENT
BEGIN:VEVENT
DTSTART;TZID=America/Vancouver:20270323T070000
DTEND;TZID=America/Vancouver:20270323T160000
DTSTAMP:20260419T061509
CREATED:20260112T183041Z
LAST-MODIFIED:20260112T183041Z
UID:38493-1805785200-1805817600@piledrivers2404.ca
SUMMARY:Pile Driver / Bridgeworker Level 3
DESCRIPTION:
URL:https://piledrivers2404.ca/event/pile-driver-bridgeworker-level-3-3/2027-03-23/
LOCATION:British Columbia
END:VEVENT
BEGIN:VEVENT
DTSTART;TZID=America/Vancouver:20270324T070000
DTEND;TZID=America/Vancouver:20270324T160000
DTSTAMP:20260419T061509
CREATED:20260112T183041Z
LAST-MODIFIED:20260112T183041Z
UID:38494-1805871600-1805904000@piledrivers2404.ca
SUMMARY:Pile Driver / Bridgeworker Level 3
DESCRIPTION:
URL:https://piledrivers2404.ca/event/pile-driver-bridgeworker-level-3-3/2027-03-24/
LOCATION:British Columbia
END:VEVENT
BEGIN:VEVENT
DTSTART;TZID=America/Vancouver:20270325T070000
DTEND;TZID=America/Vancouver:20270325T160000
DTSTAMP:20260419T061509
CREATED:20260112T183041Z
LAST-MODIFIED:20260112T183041Z
UID:38495-1805958000-1805990400@piledrivers2404.ca
SUMMARY:Pile Driver / Bridgeworker Level 3
DESCRIPTION:
URL:https://piledrivers2404.ca/event/pile-driver-bridgeworker-level-3-3/2027-03-25/
LOCATION:British Columbia
END:VEVENT
BEGIN:VEVENT
DTSTART;TZID=America/Vancouver:20270326T070000
DTEND;TZID=America/Vancouver:20270326T160000
DTSTAMP:20260419T061509
CREATED:20260112T183041Z
LAST-MODIFIED:20260112T183041Z
UID:38496-1806044400-1806076800@piledrivers2404.ca
SUMMARY:Pile Driver / Bridgeworker Level 3
DESCRIPTION:
URL:https://piledrivers2404.ca/event/pile-driver-bridgeworker-level-3-3/2027-03-26/
LOCATION:British Columbia
END:VEVENT
BEGIN:VEVENT
DTSTART;TZID=America/Vancouver:20270329T070000
DTEND;TZID=America/Vancouver:20270329T160000
DTSTAMP:20260419T061509
CREATED:20260112T183041Z
LAST-MODIFIED:20260112T183041Z
UID:38497-1806303600-1806336000@piledrivers2404.ca
SUMMARY:Pile Driver / Bridgeworker Level 3
DESCRIPTION:
URL:https://piledrivers2404.ca/event/pile-driver-bridgeworker-level-3-3/2027-03-29/
LOCATION:British Columbia
END:VEVENT
BEGIN:VEVENT
DTSTART;TZID=America/Vancouver:20270330T070000
DTEND;TZID=America/Vancouver:20270330T160000
DTSTAMP:20260419T061509
CREATED:20260112T183041Z
LAST-MODIFIED:20260112T183041Z
UID:38498-1806390000-1806422400@piledrivers2404.ca
SUMMARY:Pile Driver / Bridgeworker Level 3
DESCRIPTION:
URL:https://piledrivers2404.ca/event/pile-driver-bridgeworker-level-3-3/2027-03-30/
LOCATION:British Columbia
END:VEVENT
BEGIN:VEVENT
DTSTART;TZID=America/Vancouver:20270331T070000
DTEND;TZID=America/Vancouver:20270331T160000
DTSTAMP:20260419T061509
CREATED:20260112T183041Z
LAST-MODIFIED:20260112T183041Z
UID:38499-1806476400-1806508800@piledrivers2404.ca
SUMMARY:Pile Driver / Bridgeworker Level 3
DESCRIPTION:
URL:https://piledrivers2404.ca/event/pile-driver-bridgeworker-level-3-3/2027-03-31/
LOCATION:British Columbia
END:VEVENT
BEGIN:VEVENT
DTSTART;TZID=America/Vancouver:20270401T070000
DTEND;TZID=America/Vancouver:20270401T160000
DTSTAMP:20260419T061509
CREATED:20260112T183041Z
LAST-MODIFIED:20260112T183041Z
UID:38500-1806562800-1806595200@piledrivers2404.ca
SUMMARY:Pile Driver / Bridgeworker Level 3
DESCRIPTION:
URL:https://piledrivers2404.ca/event/pile-driver-bridgeworker-level-3-3/2027-04-01/
LOCATION:British Columbia
END:VEVENT
BEGIN:VEVENT
DTSTART;TZID=America/Vancouver:20270402T070000
DTEND;TZID=America/Vancouver:20270402T160000
DTSTAMP:20260419T061509
CREATED:20260112T183041Z
LAST-MODIFIED:20260112T183041Z
UID:38501-1806649200-1806681600@piledrivers2404.ca
SUMMARY:Pile Driver / Bridgeworker Level 3
DESCRIPTION:
URL:https://piledrivers2404.ca/event/pile-driver-bridgeworker-level-3-3/2027-04-02/
LOCATION:British Columbia
END:VEVENT
BEGIN:VEVENT
DTSTART;TZID=America/Vancouver:20270405T070000
DTEND;TZID=America/Vancouver:20270405T160000
DTSTAMP:20260419T061509
CREATED:20260112T183041Z
LAST-MODIFIED:20260112T183041Z
UID:38502-1806908400-1806940800@piledrivers2404.ca
SUMMARY:Pile Driver / Bridgeworker Level 3
DESCRIPTION:
URL:https://piledrivers2404.ca/event/pile-driver-bridgeworker-level-3-3/2027-04-05/
LOCATION:British Columbia
END:VEVENT
END:VCALENDAR