BEGIN:VCALENDAR
VERSION:2.0
PRODID:-//Pile Drivers Local 2404 - ECPv6.15.18//NONSGML v1.0//EN
CALSCALE:GREGORIAN
METHOD:PUBLISH
X-ORIGINAL-URL:https://piledrivers2404.ca
X-WR-CALDESC:Events for Pile Drivers Local 2404
REFRESH-INTERVAL;VALUE=DURATION:PT1H
X-Robots-Tag:noindex
X-PUBLISHED-TTL:PT1H
BEGIN:VTIMEZONE
TZID:America/Vancouver
BEGIN:DAYLIGHT
TZOFFSETFROM:-0800
TZOFFSETTO:-0700
TZNAME:PDT
DTSTART:20260308T100000
END:DAYLIGHT
BEGIN:STANDARD
TZOFFSETFROM:-0700
TZOFFSETTO:-0800
TZNAME:PST
DTSTART:20261101T090000
END:STANDARD
BEGIN:DAYLIGHT
TZOFFSETFROM:-0800
TZOFFSETTO:-0700
TZNAME:PDT
DTSTART:20270314T100000
END:DAYLIGHT
BEGIN:STANDARD
TZOFFSETFROM:-0700
TZOFFSETTO:-0800
TZNAME:PST
DTSTART:20271107T090000
END:STANDARD
BEGIN:DAYLIGHT
TZOFFSETFROM:-0800
TZOFFSETTO:-0700
TZNAME:PDT
DTSTART:20280312T100000
END:DAYLIGHT
BEGIN:STANDARD
TZOFFSETFROM:-0700
TZOFFSETTO:-0800
TZNAME:PST
DTSTART:20281105T090000
END:STANDARD
END:VTIMEZONE
BEGIN:VEVENT
DTSTART;TZID=America/Vancouver:20270409T070000
DTEND;TZID=America/Vancouver:20270409T160000
DTSTAMP:20260420T104920
CREATED:20260112T183041Z
LAST-MODIFIED:20260112T183041Z
UID:38506-1807254000-1807286400@piledrivers2404.ca
SUMMARY:Pile Driver / Bridgeworker Level 3
DESCRIPTION:
URL:https://piledrivers2404.ca/event/pile-driver-bridgeworker-level-3-3/2027-04-09/
LOCATION:British Columbia
END:VEVENT
END:VCALENDAR