BEGIN:VCALENDAR
VERSION:2.0
PRODID:-//Pile Drivers Local 2404 - ECPv6.15.18//NONSGML v1.0//EN
CALSCALE:GREGORIAN
METHOD:PUBLISH
X-WR-CALNAME:Pile Drivers Local 2404
X-ORIGINAL-URL:https://piledrivers2404.ca
X-WR-CALDESC:Events for Pile Drivers Local 2404
REFRESH-INTERVAL;VALUE=DURATION:PT1H
X-Robots-Tag:noindex
X-PUBLISHED-TTL:PT1H
BEGIN:VTIMEZONE
TZID:America/Vancouver
BEGIN:DAYLIGHT
TZOFFSETFROM:-0800
TZOFFSETTO:-0700
TZNAME:PDT
DTSTART:20190310T100000
END:DAYLIGHT
BEGIN:STANDARD
TZOFFSETFROM:-0700
TZOFFSETTO:-0800
TZNAME:PST
DTSTART:20191103T090000
END:STANDARD
BEGIN:DAYLIGHT
TZOFFSETFROM:-0800
TZOFFSETTO:-0700
TZNAME:PDT
DTSTART:20200308T100000
END:DAYLIGHT
BEGIN:STANDARD
TZOFFSETFROM:-0700
TZOFFSETTO:-0800
TZNAME:PST
DTSTART:20201101T090000
END:STANDARD
BEGIN:DAYLIGHT
TZOFFSETFROM:-0800
TZOFFSETTO:-0700
TZNAME:PDT
DTSTART:20210314T100000
END:DAYLIGHT
BEGIN:STANDARD
TZOFFSETFROM:-0700
TZOFFSETTO:-0800
TZNAME:PST
DTSTART:20211107T090000
END:STANDARD
BEGIN:DAYLIGHT
TZOFFSETFROM:-0800
TZOFFSETTO:-0700
TZNAME:PDT
DTSTART:20220313T100000
END:DAYLIGHT
BEGIN:STANDARD
TZOFFSETFROM:-0700
TZOFFSETTO:-0800
TZNAME:PST
DTSTART:20221106T090000
END:STANDARD
END:VTIMEZONE
BEGIN:VEVENT
DTSTART;TZID=America/Vancouver:20210104T080000
DTEND;TZID=America/Vancouver:20210108T170000
DTSTAMP:20260420T112156
CREATED:20201230T171904Z
LAST-MODIFIED:20201230T172016Z
UID:32816-1609747200-1610125200@piledrivers2404.ca
SUMMARY:Piledriver and Bridgeworker Apprenticeship Classes : Level 1
DESCRIPTION:
URL:https://piledrivers2404.ca/event/piledriver-and-bridgeworker-apprenticeship-classes-level-1-7/2021-01-04/
LOCATION:British Columbia
END:VEVENT
BEGIN:VEVENT
DTSTART;VALUE=DATE:20201222
DTEND;VALUE=DATE:20201223
DTSTAMP:20260420T112156
CREATED:20200821T180443Z
LAST-MODIFIED:20200821T180443Z
UID:32372-1608595200-1608681599@piledrivers2404.ca
SUMMARY:Skid Steer
DESCRIPTION:
URL:https://piledrivers2404.ca/event/skid-steer-7/
LOCATION:British Columbia
END:VEVENT
BEGIN:VEVENT
DTSTART;VALUE=DATE:20201217
DTEND;VALUE=DATE:20201218
DTSTAMP:20260420T112156
CREATED:20200821T175742Z
LAST-MODIFIED:20200821T175742Z
UID:32340-1608163200-1608249599@piledrivers2404.ca
SUMMARY:CWB Welder Test Session
DESCRIPTION:
URL:https://piledrivers2404.ca/event/cwb-welder-test-session-13/
LOCATION:British Columbia
END:VEVENT
BEGIN:VEVENT
DTSTART;VALUE=DATE:20201215
DTEND;VALUE=DATE:20201216
DTSTAMP:20260420T112156
CREATED:20200821T180424Z
LAST-MODIFIED:20200821T180424Z
UID:32370-1607990400-1608076799@piledrivers2404.ca
SUMMARY:Forklift
DESCRIPTION:
URL:https://piledrivers2404.ca/event/forklift-7/
LOCATION:British Columbia
END:VEVENT
BEGIN:VEVENT
DTSTART;VALUE=DATE:20201208
DTEND;VALUE=DATE:20201209
DTSTAMP:20260420T112156
CREATED:20200821T180404Z
LAST-MODIFIED:20200821T180404Z
UID:32368-1607385600-1607471999@piledrivers2404.ca
SUMMARY:Aerial Lift
DESCRIPTION:
URL:https://piledrivers2404.ca/event/aerial-lift-7/
LOCATION:British Columbia
END:VEVENT
BEGIN:VEVENT
DTSTART;TZID=America/Vancouver:20201207T080000
DTEND;TZID=America/Vancouver:20201211T170000
DTSTAMP:20260420T112156
CREATED:20200821T172921Z
LAST-MODIFIED:20200821T172921Z
UID:32320-1607328000-1607706000@piledrivers2404.ca
SUMMARY:Piledriver and Bridgeworker Apprenticeship Classes :  Level 2
DESCRIPTION:
URL:https://piledrivers2404.ca/event/piledriver-and-bridgeworker-apprenticeship-classes-level-2-6/
LOCATION:British Columbia
END:VEVENT
BEGIN:VEVENT
DTSTART;VALUE=DATE:20201203
DTEND;VALUE=DATE:20201204
DTSTAMP:20260420T112156
CREATED:20200821T175714Z
LAST-MODIFIED:20200821T175714Z
UID:32338-1606953600-1607039999@piledrivers2404.ca
SUMMARY:CWB Welder Test Session
DESCRIPTION:
URL:https://piledrivers2404.ca/event/cwb-welder-test-session-12/
LOCATION:British Columbia
END:VEVENT
BEGIN:VEVENT
DTSTART;VALUE=DATE:20201201
DTEND;VALUE=DATE:20201202
DTSTAMP:20260420T112156
CREATED:20200821T180345Z
LAST-MODIFIED:20200821T180345Z
UID:32366-1606780800-1606867199@piledrivers2404.ca
SUMMARY:Fall Protection
DESCRIPTION:
URL:https://piledrivers2404.ca/event/fall-protection-7/
LOCATION:British Columbia
END:VEVENT
BEGIN:VEVENT
DTSTART;TZID=America/Vancouver:20201130T080000
DTEND;TZID=America/Vancouver:20201204T170000
DTSTAMP:20260420T112156
CREATED:20200821T172857Z
LAST-MODIFIED:20200821T172857Z
UID:32318-1606723200-1607101200@piledrivers2404.ca
SUMMARY:Piledriver and Bridgeworker Apprenticeship Classes :  Level 2
DESCRIPTION:
URL:https://piledrivers2404.ca/event/piledriver-and-bridgeworker-apprenticeship-classes-level-2-5/
LOCATION:British Columbia
END:VEVENT
BEGIN:VEVENT
DTSTART;VALUE=DATE:20201124
DTEND;VALUE=DATE:20201125
DTSTAMP:20260420T112156
CREATED:20200821T180309Z
LAST-MODIFIED:20200821T180309Z
UID:32364-1606176000-1606262399@piledrivers2404.ca
SUMMARY:Skid Steer
DESCRIPTION:
URL:https://piledrivers2404.ca/event/skid-steer-6/
LOCATION:British Columbia
END:VEVENT
BEGIN:VEVENT
DTSTART;TZID=America/Vancouver:20201123T080000
DTEND;TZID=America/Vancouver:20201127T170000
DTSTAMP:20260420T112156
CREATED:20200821T172819Z
LAST-MODIFIED:20200821T172819Z
UID:32316-1606118400-1606496400@piledrivers2404.ca
SUMMARY:Piledriver and Bridgeworker Apprenticeship Classes :  Level 2
DESCRIPTION:
URL:https://piledrivers2404.ca/event/piledriver-and-bridgeworker-apprenticeship-classes-level-2-4/
LOCATION:British Columbia
END:VEVENT
BEGIN:VEVENT
DTSTART;VALUE=DATE:20201119
DTEND;VALUE=DATE:20201120
DTSTAMP:20260420T112156
CREATED:20200821T175533Z
LAST-MODIFIED:20200821T175533Z
UID:32336-1605744000-1605830399@piledrivers2404.ca
SUMMARY:CWB Welder Test Session
DESCRIPTION:
URL:https://piledrivers2404.ca/event/cwb-welder-test-session-11/
LOCATION:British Columbia
END:VEVENT
BEGIN:VEVENT
DTSTART;VALUE=DATE:20201117
DTEND;VALUE=DATE:20201118
DTSTAMP:20260420T112156
CREATED:20200821T180250Z
LAST-MODIFIED:20200821T180250Z
UID:32362-1605571200-1605657599@piledrivers2404.ca
SUMMARY:Forklift
DESCRIPTION:
URL:https://piledrivers2404.ca/event/forklift-6/
LOCATION:British Columbia
END:VEVENT
BEGIN:VEVENT
DTSTART;TZID=America/Vancouver:20201116T080000
DTEND;TZID=America/Vancouver:20201120T170000
DTSTAMP:20260420T112156
CREATED:20200821T172758Z
LAST-MODIFIED:20200821T172758Z
UID:32314-1605513600-1605891600@piledrivers2404.ca
SUMMARY:Piledriver and Bridgeworker Apprenticeship Classes :  Level 2
DESCRIPTION:
URL:https://piledrivers2404.ca/event/piledriver-and-bridgeworker-apprenticeship-classes-level-2-3/
LOCATION:British Columbia
END:VEVENT
BEGIN:VEVENT
DTSTART;VALUE=DATE:20201110
DTEND;VALUE=DATE:20201111
DTSTAMP:20260420T112156
CREATED:20200821T180231Z
LAST-MODIFIED:20200821T180231Z
UID:32360-1604966400-1605052799@piledrivers2404.ca
SUMMARY:Aerial Lift
DESCRIPTION:
URL:https://piledrivers2404.ca/event/aerial-lift-6/
LOCATION:British Columbia
END:VEVENT
BEGIN:VEVENT
DTSTART;TZID=America/Vancouver:20201109T080000
DTEND;TZID=America/Vancouver:20201113T170000
DTSTAMP:20260420T112156
CREATED:20200821T172733Z
LAST-MODIFIED:20200821T172733Z
UID:32312-1604908800-1605286800@piledrivers2404.ca
SUMMARY:Piledriver and Bridgeworker Apprenticeship Classes :  Level 2
DESCRIPTION:
URL:https://piledrivers2404.ca/event/piledriver-and-bridgeworker-apprenticeship-classes-level-2-2/
LOCATION:British Columbia
END:VEVENT
BEGIN:VEVENT
DTSTART;VALUE=DATE:20201105
DTEND;VALUE=DATE:20201106
DTSTAMP:20260420T112156
CREATED:20200821T175507Z
LAST-MODIFIED:20200821T175507Z
UID:32334-1604534400-1604620799@piledrivers2404.ca
SUMMARY:CWB Welder Test Session
DESCRIPTION:
URL:https://piledrivers2404.ca/event/cwb-welder-test-session-10/
LOCATION:British Columbia
END:VEVENT
BEGIN:VEVENT
DTSTART;VALUE=DATE:20201103
DTEND;VALUE=DATE:20201104
DTSTAMP:20260420T112156
CREATED:20200821T180210Z
LAST-MODIFIED:20200821T180210Z
UID:32358-1604361600-1604447999@piledrivers2404.ca
SUMMARY:Fall Protection
DESCRIPTION:
URL:https://piledrivers2404.ca/event/fall-protection-6/
LOCATION:British Columbia
END:VEVENT
BEGIN:VEVENT
DTSTART;TZID=America/Vancouver:20201102T080000
DTEND;TZID=America/Vancouver:20201106T170000
DTSTAMP:20260420T112156
CREATED:20200821T172711Z
LAST-MODIFIED:20200821T172711Z
UID:32310-1604304000-1604682000@piledrivers2404.ca
SUMMARY:Piledriver and Bridgeworker Apprenticeship Classes :  Level 2
DESCRIPTION:
URL:https://piledrivers2404.ca/event/piledriver-and-bridgeworker-apprenticeship-classes-level-2/
LOCATION:British Columbia
END:VEVENT
BEGIN:VEVENT
DTSTART;VALUE=DATE:20201027
DTEND;VALUE=DATE:20201028
DTSTAMP:20260420T112156
CREATED:20200821T180136Z
LAST-MODIFIED:20200821T180136Z
UID:32356-1603756800-1603843199@piledrivers2404.ca
SUMMARY:Skid Steer
DESCRIPTION:
URL:https://piledrivers2404.ca/event/skid-steer-5/
LOCATION:British Columbia
END:VEVENT
BEGIN:VEVENT
DTSTART;VALUE=DATE:20201022
DTEND;VALUE=DATE:20201023
DTSTAMP:20260420T112156
CREATED:20200821T173835Z
LAST-MODIFIED:20200821T174006Z
UID:32332-1603324800-1603411199@piledrivers2404.ca
SUMMARY:CWB Welder Test Session
DESCRIPTION:
URL:https://piledrivers2404.ca/event/cwb-welder-test-session-9/
LOCATION:British Columbia
END:VEVENT
BEGIN:VEVENT
DTSTART;VALUE=DATE:20201020
DTEND;VALUE=DATE:20201021
DTSTAMP:20260420T112156
CREATED:20200821T180115Z
LAST-MODIFIED:20200821T180115Z
UID:32354-1603152000-1603238399@piledrivers2404.ca
SUMMARY:Forklift
DESCRIPTION:
URL:https://piledrivers2404.ca/event/forklift-5/
LOCATION:British Columbia
END:VEVENT
BEGIN:VEVENT
DTSTART;TZID=America/Vancouver:20201019T080000
DTEND;TZID=America/Vancouver:20201023T170000
DTSTAMP:20260420T112156
CREATED:20200821T172618Z
LAST-MODIFIED:20200821T172618Z
UID:32308-1603094400-1603472400@piledrivers2404.ca
SUMMARY:Piledriver and Bridgeworker Apprenticeship Classes :  Level 1
DESCRIPTION:
URL:https://piledrivers2404.ca/event/piledriver-and-bridgeworker-apprenticeship-classes-level-1-6/
LOCATION:British Columbia
END:VEVENT
BEGIN:VEVENT
DTSTART;VALUE=DATE:20201013
DTEND;VALUE=DATE:20201014
DTSTAMP:20260420T112156
CREATED:20200821T180058Z
LAST-MODIFIED:20200821T180058Z
UID:32352-1602547200-1602633599@piledrivers2404.ca
SUMMARY:Aerial Lift
DESCRIPTION:
URL:https://piledrivers2404.ca/event/aerial-lift-5/
LOCATION:British Columbia
END:VEVENT
BEGIN:VEVENT
DTSTART;TZID=America/Vancouver:20201012T080000
DTEND;TZID=America/Vancouver:20201016T170000
DTSTAMP:20260420T112156
CREATED:20200821T172546Z
LAST-MODIFIED:20200821T172546Z
UID:32306-1602489600-1602867600@piledrivers2404.ca
SUMMARY:Piledriver and Bridgeworker Apprenticeship Classes :  Level 1
DESCRIPTION:
URL:https://piledrivers2404.ca/event/piledriver-and-bridgeworker-apprenticeship-classes-level-1-5/
LOCATION:British Columbia
END:VEVENT
BEGIN:VEVENT
DTSTART;VALUE=DATE:20201008
DTEND;VALUE=DATE:20201009
DTSTAMP:20260420T112156
CREATED:20200821T173810Z
LAST-MODIFIED:20200821T175357Z
UID:32330-1602115200-1602201599@piledrivers2404.ca
SUMMARY:CWB Welder Test Session
DESCRIPTION:
URL:https://piledrivers2404.ca/event/cwb-welder-test-session-8/
LOCATION:British Columbia
END:VEVENT
BEGIN:VEVENT
DTSTART;VALUE=DATE:20201006
DTEND;VALUE=DATE:20201007
DTSTAMP:20260420T112156
CREATED:20200821T180037Z
LAST-MODIFIED:20200821T180037Z
UID:32350-1601942400-1602028799@piledrivers2404.ca
SUMMARY:Fall Protection
DESCRIPTION:
URL:https://piledrivers2404.ca/event/fall-protection-5/
LOCATION:British Columbia
END:VEVENT
BEGIN:VEVENT
DTSTART;TZID=America/Vancouver:20201005T080000
DTEND;TZID=America/Vancouver:20201009T170000
DTSTAMP:20260420T112156
CREATED:20200821T172523Z
LAST-MODIFIED:20200821T172523Z
UID:32304-1601884800-1602262800@piledrivers2404.ca
SUMMARY:Piledriver and Bridgeworker Apprenticeship Classes :  Level 1
DESCRIPTION:
URL:https://piledrivers2404.ca/event/piledriver-and-bridgeworker-apprenticeship-classes-level-1-4/
LOCATION:British Columbia
END:VEVENT
BEGIN:VEVENT
DTSTART;VALUE=DATE:20201005
DTEND;VALUE=DATE:20201009
DTSTAMP:20260420T112156
CREATED:20200116T185202Z
LAST-MODIFIED:20200116T185426Z
UID:31298-1601856000-1602201599@piledrivers2404.ca
SUMMARY:CITC - UNDERWATER BRIDGE INSPECTION COURSE
DESCRIPTION:PREREQUISITES:  \nMust have a Commercial Diving Certification and/or Commercial Diving Diploma entered in TRAIN \nContractor to call the office to register a diver.
URL:https://piledrivers2404.ca/event/citc-underwater-bridge-inspection-course/
LOCATION:British Columbia
END:VEVENT
BEGIN:VEVENT
DTSTART;VALUE=DATE:20200929
DTEND;VALUE=DATE:20200930
DTSTAMP:20260420T112156
CREATED:20200821T180008Z
LAST-MODIFIED:20200824T201237Z
UID:32348-1601337600-1601423999@piledrivers2404.ca
SUMMARY:Skid Steer
DESCRIPTION:
URL:https://piledrivers2404.ca/event/skid-steer-4/
LOCATION:British Columbia
END:VEVENT
END:VCALENDAR