BEGIN:VCALENDAR
VERSION:2.0
PRODID:-//Pile Drivers Local 2404 - ECPv6.15.20//NONSGML v1.0//EN
CALSCALE:GREGORIAN
METHOD:PUBLISH
X-WR-CALNAME:Pile Drivers Local 2404
X-ORIGINAL-URL:https://piledrivers2404.ca
X-WR-CALDESC:Events for Pile Drivers Local 2404
REFRESH-INTERVAL;VALUE=DURATION:PT1H
X-Robots-Tag:noindex
X-PUBLISHED-TTL:PT1H
BEGIN:VTIMEZONE
TZID:America/Vancouver
BEGIN:DAYLIGHT
TZOFFSETFROM:-0800
TZOFFSETTO:-0700
TZNAME:PDT
DTSTART:20180311T100000
END:DAYLIGHT
BEGIN:STANDARD
TZOFFSETFROM:-0700
TZOFFSETTO:-0800
TZNAME:PST
DTSTART:20181104T090000
END:STANDARD
BEGIN:DAYLIGHT
TZOFFSETFROM:-0800
TZOFFSETTO:-0700
TZNAME:PDT
DTSTART:20190310T100000
END:DAYLIGHT
BEGIN:STANDARD
TZOFFSETFROM:-0700
TZOFFSETTO:-0800
TZNAME:PST
DTSTART:20191103T090000
END:STANDARD
BEGIN:DAYLIGHT
TZOFFSETFROM:-0800
TZOFFSETTO:-0700
TZNAME:PDT
DTSTART:20200308T100000
END:DAYLIGHT
BEGIN:STANDARD
TZOFFSETFROM:-0700
TZOFFSETTO:-0800
TZNAME:PST
DTSTART:20201101T090000
END:STANDARD
BEGIN:DAYLIGHT
TZOFFSETFROM:-0800
TZOFFSETTO:-0700
TZNAME:PDT
DTSTART:20210314T100000
END:DAYLIGHT
BEGIN:STANDARD
TZOFFSETFROM:-0700
TZOFFSETTO:-0800
TZNAME:PST
DTSTART:20211107T090000
END:STANDARD
END:VTIMEZONE
BEGIN:VEVENT
DTSTART;VALUE=DATE:20200714
DTEND;VALUE=DATE:20200715
DTSTAMP:20260420T173209
CREATED:20200603T225731Z
LAST-MODIFIED:20200603T225731Z
UID:31934-1594684800-1594771199@piledrivers2404.ca
SUMMARY:Aerial Lift
DESCRIPTION:Aerial Lift
URL:https://piledrivers2404.ca/event/aerial-lift-2/
LOCATION:British Columbia
END:VEVENT
BEGIN:VEVENT
DTSTART;VALUE=DATE:20200707
DTEND;VALUE=DATE:20200708
DTSTAMP:20260420T173209
CREATED:20200603T225704Z
LAST-MODIFIED:20200603T225704Z
UID:31932-1594080000-1594166399@piledrivers2404.ca
SUMMARY:Fall Protection
DESCRIPTION:Fall Protection
URL:https://piledrivers2404.ca/event/fall-protection-2/
LOCATION:British Columbia
END:VEVENT
BEGIN:VEVENT
DTSTART;VALUE=DATE:20200630
DTEND;VALUE=DATE:20200701
DTSTAMP:20260420T173209
CREATED:20200603T225516Z
LAST-MODIFIED:20200603T225516Z
UID:31930-1593475200-1593561599@piledrivers2404.ca
SUMMARY:Skid Steer
DESCRIPTION:Skid Steer
URL:https://piledrivers2404.ca/event/skid-steer/
LOCATION:British Columbia
END:VEVENT
BEGIN:VEVENT
DTSTART;VALUE=DATE:20200623
DTEND;VALUE=DATE:20200624
DTSTAMP:20260420T173209
CREATED:20200603T225452Z
LAST-MODIFIED:20200603T225452Z
UID:31928-1592870400-1592956799@piledrivers2404.ca
SUMMARY:Forklift
DESCRIPTION:Forklist
URL:https://piledrivers2404.ca/event/forklift/
LOCATION:British Columbia
END:VEVENT
BEGIN:VEVENT
DTSTART;VALUE=DATE:20200618
DTEND;VALUE=DATE:20200619
DTSTAMP:20260420T173209
CREATED:20200603T223106Z
LAST-MODIFIED:20200604T154831Z
UID:31908-1592438400-1592524799@piledrivers2404.ca
SUMMARY:CWB Welder Test Session
DESCRIPTION:CWB Welder Test Session
URL:https://piledrivers2404.ca/event/cwb-welder-test-session/
LOCATION:British Columbia
END:VEVENT
BEGIN:VEVENT
DTSTART;VALUE=DATE:20200616
DTEND;VALUE=DATE:20200617
DTSTAMP:20260420T173209
CREATED:20200603T225311Z
LAST-MODIFIED:20200603T225603Z
UID:31926-1592265600-1592351999@piledrivers2404.ca
SUMMARY:Aerial Lift
DESCRIPTION:Aerial Lift
URL:https://piledrivers2404.ca/event/aerial-lift/
LOCATION:British Columbia
END:VEVENT
BEGIN:VEVENT
DTSTART;VALUE=DATE:20200609
DTEND;VALUE=DATE:20200610
DTSTAMP:20260420T173209
CREATED:20200603T225231Z
LAST-MODIFIED:20200603T225231Z
UID:31924-1591660800-1591747199@piledrivers2404.ca
SUMMARY:Fall Protection
DESCRIPTION:Fall Protection
URL:https://piledrivers2404.ca/event/fall-protection/
LOCATION:British Columbia
END:VEVENT
BEGIN:VEVENT
DTSTART;VALUE=DATE:20200604
DTEND;VALUE=DATE:20200605
DTSTAMP:20260420T173209
CREATED:20200603T222939Z
LAST-MODIFIED:20200604T154848Z
UID:31905-1591228800-1591315199@piledrivers2404.ca
SUMMARY:CWB Welder Test Session
DESCRIPTION:CWB Welder Test Session
URL:https://piledrivers2404.ca/event/31905/
LOCATION:British Columbia
END:VEVENT
BEGIN:VEVENT
DTSTART;TZID=America/Vancouver:20200420T073000
DTEND;TZID=America/Vancouver:20200420T153000
DTSTAMP:20260420T173209
CREATED:20200128T173519Z
LAST-MODIFIED:20200128T173519Z
UID:31375-1587367800-1587396600@piledrivers2404.ca
SUMMARY:PILEDRIVER AND BRIDGEWORKER LEVEL 3 CLASS
DESCRIPTION:THE LEVEL 3 CLASS STARTS MONDAY\, APRIL 20th AND FINISHES FRIDAY\, MAY 29th\, 2020
URL:https://piledrivers2404.ca/event/piledriver-and-bridgeworker-level-3-class/
LOCATION:Local 2404 JATC Training Centre\, #101-580 Ebury Place\, Delta\, British Columbia\, V3M6M8\, Canada
END:VEVENT
BEGIN:VEVENT
DTSTART;VALUE=DATE:20200326
DTEND;VALUE=DATE:20200330
DTSTAMP:20260420T173209
CREATED:20200130T194134Z
LAST-MODIFIED:20200130T194134Z
UID:31403-1585180800-1585526399@piledrivers2404.ca
SUMMARY:3rd YEAR APPRENTICESHIP PROGRAM
DESCRIPTION:CITC – LAS VEGAS \n5 – SPOTS \nCALL THE OFFICE TO REGISTER
URL:https://piledrivers2404.ca/event/3rd-year-apprenticeship-program/
LOCATION:Carpenters Internation Training Center\, 212 Carpenters Union Way\, Las Vegas\, NV\, 89119-4218\, United States
END:VEVENT
BEGIN:VEVENT
DTSTART;VALUE=DATE:20200326
DTEND;VALUE=DATE:20200330
DTSTAMP:20260420T173209
CREATED:20200130T194014Z
LAST-MODIFIED:20200130T194014Z
UID:31401-1585180800-1585526399@piledrivers2404.ca
SUMMARY:UBC JOURNEYMAN LEADERSHIP
DESCRIPTION:CITC – LAS VEGAS \n10 – SPOTS \nCALL THE OFFICE TO REGISTER
URL:https://piledrivers2404.ca/event/ubc-journeyman-leadership/
LOCATION:Carpenters Internation Training Center\, 212 Carpenters Union Way\, Las Vegas\, NV\, 89119-4218\, United States
END:VEVENT
BEGIN:VEVENT
DTSTART;VALUE=DATE:20200323
DTEND;VALUE=DATE:20200326
DTSTAMP:20260420T173209
CREATED:20200130T193457Z
LAST-MODIFIED:20200130T193457Z
UID:31396-1584921600-1585180799@piledrivers2404.ca
SUMMARY:COLLABORATIVE LEADERSHIP PROGRAM
DESCRIPTION:CITC – LAS VEGAS \nCALL THE OFFICE TO REGISTER \n604-526-2404
URL:https://piledrivers2404.ca/event/collaborative-leadership-program/
LOCATION:Carpenters Internation Training Center\, 212 Carpenters Union Way\, Las Vegas\, NV\, 89119-4218\, United States
END:VEVENT
BEGIN:VEVENT
DTSTART;TZID=America/Vancouver:20200227T070000
DTEND;TZID=America/Vancouver:20200227T120000
DTSTAMP:20260420T173209
CREATED:20200116T192317Z
LAST-MODIFIED:20200116T192317Z
UID:31317-1582786800-1582804800@piledrivers2404.ca
SUMMARY:CWB WELDING TEST
DESCRIPTION:Call the office to book a spot; \nCall the office to book a practice booth: \n604-526-2404
URL:https://piledrivers2404.ca/event/cwb-welding-test-4/
LOCATION:British Columbia
END:VEVENT
BEGIN:VEVENT
DTSTART;TZID=America/Vancouver:20200225T073000
DTEND;TZID=America/Vancouver:20200225T163000
DTSTAMP:20260420T173209
CREATED:20200128T172740Z
LAST-MODIFIED:20200128T172740Z
UID:31368-1582615800-1582648200@piledrivers2404.ca
SUMMARY:SKID STEER COURSE
DESCRIPTION:CALL THE OFFICE TO REGISTER FOR THIS CLASS \n604-526-2404 \nMINIMUM  STUDENTS REQUIRED IS 4 \nMAXIMUM STUDENTS IN CLASS IS 6
URL:https://piledrivers2404.ca/event/skid-steer-course-2/
LOCATION:Local 2404 JATC Training Centre\, #101-580 Ebury Place\, Delta\, British Columbia\, V3M6M8\, Canada
END:VEVENT
BEGIN:VEVENT
DTSTART;TZID=America/Vancouver:20200224T073000
DTEND;TZID=America/Vancouver:20200224T153000
DTSTAMP:20260420T173209
CREATED:20200128T173139Z
LAST-MODIFIED:20200128T173253Z
UID:31372-1582529400-1582558200@piledrivers2404.ca
SUMMARY:PILEDRIVER AND BRIDGEWORKER LEVEL 2 CLASS
DESCRIPTION:CLASS STARTS MONDAY\, FEBRUARY 24th AND FINISHES FRIDAY\, APRIL 3rd\, 2020.
URL:https://piledrivers2404.ca/event/piledriver-and-bridgeworker-level-2-class/
LOCATION:British Columbia
END:VEVENT
BEGIN:VEVENT
DTSTART;TZID=America/Vancouver:20200218T073000
DTEND;TZID=America/Vancouver:20200218T153000
DTSTAMP:20260420T173209
CREATED:20200128T172532Z
LAST-MODIFIED:20200128T172532Z
UID:31366-1582011000-1582039800@piledrivers2404.ca
SUMMARY:FORKLIFT COURSE
DESCRIPTION:CALL THE OFFICE TO REGISTER FOR THIS CLASS \n604-526-2404 \nCLASS 4\, 5\, & 7
URL:https://piledrivers2404.ca/event/forklift-course-2/
LOCATION:Local 2404 JATC Training Centre\, #101-580 Ebury Place\, Delta\, British Columbia\, V3M6M8\, Canada
END:VEVENT
BEGIN:VEVENT
DTSTART;TZID=America/Vancouver:20200213T070000
DTEND;TZID=America/Vancouver:20200213T120000
DTSTAMP:20260420T173209
CREATED:20200116T191500Z
LAST-MODIFIED:20200116T191657Z
UID:31311-1581577200-1581595200@piledrivers2404.ca
SUMMARY:CWB WELDING TEST
DESCRIPTION:Call the office to book your test date; \nAlso call the office to book a practice booth.
URL:https://piledrivers2404.ca/event/cwb-welding-test-3/
LOCATION:Local 2404 JATC Training Centre\, #101-580 Ebury Place\, Delta\, British Columbia\, V3M6M8\, Canada
END:VEVENT
BEGIN:VEVENT
DTSTART;TZID=America/Vancouver:20200211T073000
DTEND;TZID=America/Vancouver:20200211T153000
DTSTAMP:20260420T173209
CREATED:20200128T172401Z
LAST-MODIFIED:20200128T172401Z
UID:31364-1581406200-1581435000@piledrivers2404.ca
SUMMARY:AERIAL LIFT COURSE
DESCRIPTION:CALL THE OFFICE TO REGISTER FOR THIS CLASS \n604-526-2404
URL:https://piledrivers2404.ca/event/aerial-lift-course-2/
LOCATION:Local 2404 JATC Training Centre\, #101-580 Ebury Place\, Delta\, British Columbia\, V3M6M8\, Canada
END:VEVENT
BEGIN:VEVENT
DTSTART;TZID=America/Vancouver:20200210T080000
DTEND;TZID=America/Vancouver:20200210T153000
DTSTAMP:20260420T173209
CREATED:20200128T172952Z
LAST-MODIFIED:20200128T174047Z
UID:31370-1581321600-1581348600@piledrivers2404.ca
SUMMARY:LEVEL 1 FIRST AID COURSE
DESCRIPTION:CALL THE OFFICE TO REGISTER FOR THIS CLASS \n604-526-2404
URL:https://piledrivers2404.ca/event/level-1-first-aid-lourse/
LOCATION:Local 2404 JATC Training Centre\, #101-580 Ebury Place\, Delta\, British Columbia\, V3M6M8\, Canada
END:VEVENT
BEGIN:VEVENT
DTSTART;TZID=America/Vancouver:20200208T093000
DTEND;TZID=America/Vancouver:20200208T120000
DTSTAMP:20260420T173209
CREATED:20200128T173945Z
LAST-MODIFIED:20200128T173945Z
UID:31378-1581154200-1581163200@piledrivers2404.ca
SUMMARY:Regular Membership Meeting
DESCRIPTION:
URL:https://piledrivers2404.ca/event/regular-membership-meeting/
LOCATION:Local 2404 JATC Training Centre\, #101-580 Ebury Place\, Delta\, British Columbia\, V3M6M8\, Canada
END:VEVENT
BEGIN:VEVENT
DTSTART;TZID=America/Vancouver:20200206T073000
DTEND;TZID=America/Vancouver:20200206T150000
DTSTAMP:20260420T173209
CREATED:20200128T171043Z
LAST-MODIFIED:20200128T174402Z
UID:31357-1580974200-1581001200@piledrivers2404.ca
SUMMARY:SKID STEER COURSE
DESCRIPTION:This class has a minimum of 4 students and a maximum of 6 students. \nCall the office to register for the class \n604-526-2404
URL:https://piledrivers2404.ca/event/piledriver-skid-ssteer/
LOCATION:Local 2404 JATC Training Centre\, #101-580 Ebury Place\, Delta\, British Columbia\, V3M6M8\, Canada
END:VEVENT
BEGIN:VEVENT
DTSTART;TZID=America/Vancouver:20200204T073000
DTEND;TZID=America/Vancouver:20200204T153000
DTSTAMP:20260420T173209
CREATED:20200128T172228Z
LAST-MODIFIED:20200128T172228Z
UID:31362-1580801400-1580830200@piledrivers2404.ca
SUMMARY:CONSTRUCTION FALL PROTECTION
DESCRIPTION:CALL THE OFFICE TO REGISTER FOR THIS CLASS \n604-526-2404
URL:https://piledrivers2404.ca/event/construction-fall-protection-2/
LOCATION:Local 2404 JATC Training Centre\, #101-580 Ebury Place\, Delta\, British Columbia\, V3M6M8\, Canada
END:VEVENT
BEGIN:VEVENT
DTSTART;TZID=America/Vancouver:20200130T070000
DTEND;TZID=America/Vancouver:20200130T120000
DTSTAMP:20260420T173209
CREATED:20200102T231055Z
LAST-MODIFIED:20200102T231055Z
UID:31255-1580367600-1580385600@piledrivers2404.ca
SUMMARY:CWB WELDING TEST
DESCRIPTION:
URL:https://piledrivers2404.ca/event/cwb-welding-test-2/
LOCATION:British Columbia
END:VEVENT
BEGIN:VEVENT
DTSTART;VALUE=DATE:20200128
DTEND;VALUE=DATE:20200129
DTSTAMP:20260420T173209
CREATED:20200116T185943Z
LAST-MODIFIED:20200116T190155Z
UID:31304-1580169600-1580255999@piledrivers2404.ca
SUMMARY:SKID STEER COURSE
DESCRIPTION:Call the office to register for this course.  Class size limited to 6 members. \n604-526-2404
URL:https://piledrivers2404.ca/event/skid-steer-course/
LOCATION:Local 2404 JATC Training Centre\, #101-580 Ebury Place\, Delta\, British Columbia\, V3M6M8\, Canada
ORGANIZER;CN="LOCAL 2404 JATC":MAILTO:training@piledrivers2404.ca
END:VEVENT
BEGIN:VEVENT
DTSTART;TZID=America/Vancouver:20200121T080000
DTEND;TZID=America/Vancouver:20200121T170000
DTSTAMP:20260420T173209
CREATED:20200102T225735Z
LAST-MODIFIED:20200102T230408Z
UID:31249-1579593600-1579626000@piledrivers2404.ca
SUMMARY:Forklift Course
DESCRIPTION:Class 4\, 5 & 7 \nCall the office to book a seat. Advise the office if it is a re-cert that is required \n 604-526-2404 \n 
URL:https://piledrivers2404.ca/event/forklift-course/
LOCATION:British Columbia
END:VEVENT
BEGIN:VEVENT
DTSTART;TZID=America/Vancouver:20200116T070000
DTEND;TZID=America/Vancouver:20200116T120000
DTSTAMP:20260420T173209
CREATED:20200102T230727Z
LAST-MODIFIED:20200102T230727Z
UID:31251-1579158000-1579176000@piledrivers2404.ca
SUMMARY:CWB WELDING TEST
DESCRIPTION:
URL:https://piledrivers2404.ca/event/cwb-welding-test/
LOCATION:British Columbia
END:VEVENT
BEGIN:VEVENT
DTSTART;TZID=America/Vancouver:20200114T073000
DTEND;TZID=America/Vancouver:20200114T160000
DTSTAMP:20260420T173209
CREATED:20200102T225405Z
LAST-MODIFIED:20200102T225405Z
UID:31245-1578987000-1579017600@piledrivers2404.ca
SUMMARY:Aerial Lift Course
DESCRIPTION:Call the office to book a seat \n 604-526-2404 \nYou must have a current Fall Protection ticket to take this class
URL:https://piledrivers2404.ca/event/aerial-lift-course/
LOCATION:Local 2404 JATC Training Centre\, #101-580 Ebury Place\, Delta\, British Columbia\, V3M6M8\, Canada
ORGANIZER;CN="":MAILTO:smccrea@piledrivers2404.ca
END:VEVENT
BEGIN:VEVENT
DTSTART;TZID=America/Vancouver:20200111T093000
DTEND;TZID=America/Vancouver:20200111T120000
DTSTAMP:20260420T173209
CREATED:20200102T231248Z
LAST-MODIFIED:20200102T231302Z
UID:31257-1578735000-1578744000@piledrivers2404.ca
SUMMARY:JANURY MEMBERSHIP MEETING
DESCRIPTION:
URL:https://piledrivers2404.ca/event/janury-membership-meeting/
LOCATION:British Columbia
END:VEVENT
BEGIN:VEVENT
DTSTART;TZID=America/Vancouver:20200107T073000
DTEND;TZID=America/Vancouver:20200107T160000
DTSTAMP:20260420T173209
CREATED:20200102T222148Z
LAST-MODIFIED:20200102T223116Z
UID:31230-1578382200-1578412800@piledrivers2404.ca
SUMMARY:Construction Fall Protection
DESCRIPTION:Call the office to book a spot. \n604-526-2404
URL:https://piledrivers2404.ca/event/construction-fall-protection/
LOCATION:British Columbia
END:VEVENT
BEGIN:VEVENT
DTSTART;VALUE=DATE:20191219
DTEND;VALUE=DATE:20191220
DTSTAMP:20260420T173209
CREATED:20191204T222854Z
LAST-MODIFIED:20191204T222854Z
UID:31175-1576713600-1576799999@piledrivers2404.ca
SUMMARY:CWB WELDING
DESCRIPTION:CALL THE OFFICE TO RESERVE A BOOTH. \n(604) 526-2404
URL:https://piledrivers2404.ca/event/cwb-welding-2/
LOCATION:British Columbia
END:VEVENT
END:VCALENDAR