BEGIN:VCALENDAR
VERSION:2.0
PRODID:-//Pile Drivers Local 2404 - ECPv6.15.20//NONSGML v1.0//EN
CALSCALE:GREGORIAN
METHOD:PUBLISH
X-WR-CALNAME:Pile Drivers Local 2404
X-ORIGINAL-URL:https://piledrivers2404.ca
X-WR-CALDESC:Events for Pile Drivers Local 2404
REFRESH-INTERVAL;VALUE=DURATION:PT1H
X-Robots-Tag:noindex
X-PUBLISHED-TTL:PT1H
BEGIN:VTIMEZONE
TZID:America/Vancouver
BEGIN:DAYLIGHT
TZOFFSETFROM:-0800
TZOFFSETTO:-0700
TZNAME:PDT
DTSTART:20220313T100000
END:DAYLIGHT
BEGIN:STANDARD
TZOFFSETFROM:-0700
TZOFFSETTO:-0800
TZNAME:PST
DTSTART:20221106T090000
END:STANDARD
BEGIN:DAYLIGHT
TZOFFSETFROM:-0800
TZOFFSETTO:-0700
TZNAME:PDT
DTSTART:20230312T100000
END:DAYLIGHT
BEGIN:STANDARD
TZOFFSETFROM:-0700
TZOFFSETTO:-0800
TZNAME:PST
DTSTART:20231105T090000
END:STANDARD
BEGIN:DAYLIGHT
TZOFFSETFROM:-0800
TZOFFSETTO:-0700
TZNAME:PDT
DTSTART:20240310T100000
END:DAYLIGHT
BEGIN:STANDARD
TZOFFSETFROM:-0700
TZOFFSETTO:-0800
TZNAME:PST
DTSTART:20241103T090000
END:STANDARD
END:VTIMEZONE
BEGIN:VEVENT
DTSTART;TZID=America/Vancouver:20231205T073000
DTEND;TZID=America/Vancouver:20231205T160000
DTSTAMP:20260421T151602
CREATED:20230608T225449Z
LAST-MODIFIED:20230608T225458Z
UID:34435-1701761400-1701792000@piledrivers2404.ca
SUMMARY:Fall Protection
DESCRIPTION:
URL:https://piledrivers2404.ca/event/fall-protection-15/
END:VEVENT
BEGIN:VEVENT
DTSTART;TZID=America/Vancouver:20231207T070000
DTEND;TZID=America/Vancouver:20231207T140000
DTSTAMP:20260421T151602
CREATED:20230608T230041Z
LAST-MODIFIED:20230608T230041Z
UID:34466-1701932400-1701957600@piledrivers2404.ca
SUMMARY:CWB Welding Testing
DESCRIPTION:
URL:https://piledrivers2404.ca/event/cwb-welding-testing-14/
END:VEVENT
BEGIN:VEVENT
DTSTART;TZID=America/Vancouver:20231209T093000
DTEND;TZID=America/Vancouver:20231209T110000
DTSTAMP:20260421T151602
CREATED:20230203T000115Z
LAST-MODIFIED:20230525T191607Z
UID:34313-1702114200-1702119600@piledrivers2404.ca
SUMMARY:Membership Meeting
DESCRIPTION:
URL:https://piledrivers2404.ca/event/membership-meeting-10/
END:VEVENT
BEGIN:VEVENT
DTSTART;TZID=America/Vancouver:20231212T073000
DTEND;TZID=America/Vancouver:20231212T160000
DTSTAMP:20260421T151602
CREATED:20230608T230620Z
LAST-MODIFIED:20230608T230620Z
UID:34483-1702366200-1702396800@piledrivers2404.ca
SUMMARY:Aerial Lift
DESCRIPTION:
URL:https://piledrivers2404.ca/event/aerial-lift-14/
END:VEVENT
BEGIN:VEVENT
DTSTART;TZID=America/Vancouver:20231219T073000
DTEND;TZID=America/Vancouver:20231219T160000
DTSTAMP:20260421T151602
CREATED:20230608T231011Z
LAST-MODIFIED:20230608T231011Z
UID:34498-1702971000-1703001600@piledrivers2404.ca
SUMMARY:Forklift
DESCRIPTION:
URL:https://piledrivers2404.ca/event/forklift-15/
END:VEVENT
BEGIN:VEVENT
DTSTART;TZID=America/Vancouver:20231221T070000
DTEND;TZID=America/Vancouver:20231221T140000
DTSTAMP:20260421T151602
CREATED:20230608T230115Z
LAST-MODIFIED:20230608T230115Z
UID:34468-1703142000-1703167200@piledrivers2404.ca
SUMMARY:CWB Welding Testing
DESCRIPTION:
URL:https://piledrivers2404.ca/event/cwb-welding-testing-15/
END:VEVENT
END:VCALENDAR